BEGIN:VCALENDAR
VERSION:2.0
PRODID:-//700 Million Gallons - ECPv6.15.17//NONSGML v1.0//EN
CALSCALE:GREGORIAN
METHOD:PUBLISH
X-ORIGINAL-URL:https://www.700milliongallons.org
X-WR-CALDESC:Events for 700 Million Gallons
REFRESH-INTERVAL;VALUE=DURATION:PT1H
X-Robots-Tag:noindex
X-PUBLISHED-TTL:PT1H
BEGIN:VTIMEZONE
TZID:America/Los_Angeles
BEGIN:DAYLIGHT
TZOFFSETFROM:-0800
TZOFFSETTO:-0700
TZNAME:PDT
DTSTART:20240310T100000
END:DAYLIGHT
BEGIN:STANDARD
TZOFFSETFROM:-0700
TZOFFSETTO:-0800
TZNAME:PST
DTSTART:20241103T090000
END:STANDARD
BEGIN:DAYLIGHT
TZOFFSETFROM:-0800
TZOFFSETTO:-0700
TZNAME:PDT
DTSTART:20250309T100000
END:DAYLIGHT
BEGIN:STANDARD
TZOFFSETFROM:-0700
TZOFFSETTO:-0800
TZNAME:PST
DTSTART:20251102T090000
END:STANDARD
BEGIN:DAYLIGHT
TZOFFSETFROM:-0800
TZOFFSETTO:-0700
TZNAME:PDT
DTSTART:20260308T100000
END:DAYLIGHT
BEGIN:STANDARD
TZOFFSETFROM:-0700
TZOFFSETTO:-0800
TZNAME:PST
DTSTART:20261101T090000
END:STANDARD
END:VTIMEZONE
BEGIN:VEVENT
DTSTART;TZID=America/Los_Angeles:20250618T150000
DTEND;TZID=America/Los_Angeles:20250618T190000
DTSTAMP:20260425T210358
CREATED:20250613T181403Z
LAST-MODIFIED:20250815T183428Z
UID:6432-1750258800-1750273200@www.700milliongallons.org
SUMMARY:RainWise Tabling @ Columbia City Farmers Market
DESCRIPTION:Come visit us at the Columbia City Farmers Market!\nRainWise will have a table at the Columbia City Farmers Market on Wednesday\, June 18th from 3 – 7pm. Talk to our staff about any questions you might have about your future RainWise project!\n\nFor more information about the Columbia City Farmers Market\, visit https://seattlefarmersmarkets.org/ccfm.
URL:https://www.700milliongallons.org/event/rainwise-tabling-columbia-city-farmers-market/
LOCATION:37th Ave S & S Edmunds St\, 37th Ave S & S Edmunds St\, Seattle\, WA\, United States
CATEGORIES:RainWise,Tabling
END:VEVENT
END:VCALENDAR