BEGIN:VCALENDAR
VERSION:2.0
PRODID:-//700 Million Gallons - ECPv6.15.17//NONSGML v1.0//EN
CALSCALE:GREGORIAN
METHOD:PUBLISH
X-WR-CALNAME:700 Million Gallons
X-ORIGINAL-URL:https://www.700milliongallons.org
X-WR-CALDESC:Events for 700 Million Gallons
REFRESH-INTERVAL;VALUE=DURATION:PT1H
X-Robots-Tag:noindex
X-PUBLISHED-TTL:PT1H
BEGIN:VTIMEZONE
TZID:America/Los_Angeles
BEGIN:DAYLIGHT
TZOFFSETFROM:-0800
TZOFFSETTO:-0700
TZNAME:PDT
DTSTART:20240310T100000
END:DAYLIGHT
BEGIN:STANDARD
TZOFFSETFROM:-0700
TZOFFSETTO:-0800
TZNAME:PST
DTSTART:20241103T090000
END:STANDARD
BEGIN:DAYLIGHT
TZOFFSETFROM:-0800
TZOFFSETTO:-0700
TZNAME:PDT
DTSTART:20250309T100000
END:DAYLIGHT
BEGIN:STANDARD
TZOFFSETFROM:-0700
TZOFFSETTO:-0800
TZNAME:PST
DTSTART:20251102T090000
END:STANDARD
BEGIN:DAYLIGHT
TZOFFSETFROM:-0800
TZOFFSETTO:-0700
TZNAME:PDT
DTSTART:20260308T100000
END:DAYLIGHT
BEGIN:STANDARD
TZOFFSETFROM:-0700
TZOFFSETTO:-0800
TZNAME:PST
DTSTART:20261101T090000
END:STANDARD
END:VTIMEZONE
BEGIN:VEVENT
DTSTART;TZID=America/Los_Angeles:20250701T183000
DTEND;TZID=America/Los_Angeles:20250701T193000
DTSTAMP:20260425T193212
CREATED:20250604T182932Z
LAST-MODIFIED:20250613T222353Z
UID:6351-1751394600-1751398200@www.700milliongallons.org
SUMMARY:How to Get RainWise In-Person Workshop
DESCRIPTION:Join us for an in-person workshop and meet contractors!\nRegister at https://July1RW.eventbrite.com. \nYou will learn about the RainWise program and how to apply to get a cistern and/or rain garden rebate.  \nRainWise rebates combat pollution! With every storm\, rain carries pollutants off our roofs\, driveways\, and other hard surfaces to local creeks\, Lake Washington\, and Puget Sound. Rain gardens and cisterns can help control this stormwater\, but we need your help! In selected areas of Seattle\, the City of Seattle and King County will pay up to 100 percent of the cost of installing rain gardens and cisterns on homeowners’ properties. \nThis in-person workshop is for homeowners in RainWise-eligible basins throughout Seattle who are interested in learning more about the RainWise program and rebates. At this workshop\, you will learn: \n\nabout the stormwater problem\,\nabout the solutions we’re using to solve it\, and\nhow you can help and get a rebate of up to 100% of the cost of cisterns and/or rain gardens.\n\nWe’ll cover the rebate process\, and how to select a contractor. You’ll have a chance to ask questions to Program staff\, hear from a fellow RainWise homeowner\, and possibly chat with RainWise contractors about your future project! \nWe recommend that you check your eligibility for a RainWise rebate in advance at our eligibility page.
URL:https://www.700milliongallons.org/event/july1workshop/
LOCATION:Columbia Branch – The Seattle Public Library\, 4721 Rainier Ave S\, Seattle\, WA\, 98118\, United States
CATEGORIES:RainWise,Workshop
END:VEVENT
END:VCALENDAR