BEGIN:VCALENDAR
VERSION:2.0
PRODID:-//700 Million Gallons - ECPv6.15.17//NONSGML v1.0//EN
CALSCALE:GREGORIAN
METHOD:PUBLISH
X-ORIGINAL-URL:https://www.700milliongallons.org
X-WR-CALDESC:Events for 700 Million Gallons
REFRESH-INTERVAL;VALUE=DURATION:PT1H
X-Robots-Tag:noindex
X-PUBLISHED-TTL:PT1H
BEGIN:VTIMEZONE
TZID:America/Los_Angeles
BEGIN:DAYLIGHT
TZOFFSETFROM:-0800
TZOFFSETTO:-0700
TZNAME:PDT
DTSTART:20240310T100000
END:DAYLIGHT
BEGIN:STANDARD
TZOFFSETFROM:-0700
TZOFFSETTO:-0800
TZNAME:PST
DTSTART:20241103T090000
END:STANDARD
BEGIN:DAYLIGHT
TZOFFSETFROM:-0800
TZOFFSETTO:-0700
TZNAME:PDT
DTSTART:20250309T100000
END:DAYLIGHT
BEGIN:STANDARD
TZOFFSETFROM:-0700
TZOFFSETTO:-0800
TZNAME:PST
DTSTART:20251102T090000
END:STANDARD
BEGIN:DAYLIGHT
TZOFFSETFROM:-0800
TZOFFSETTO:-0700
TZNAME:PDT
DTSTART:20260308T100000
END:DAYLIGHT
BEGIN:STANDARD
TZOFFSETFROM:-0700
TZOFFSETTO:-0800
TZNAME:PST
DTSTART:20261101T090000
END:STANDARD
END:VTIMEZONE
BEGIN:VEVENT
DTSTART;TZID=America/Los_Angeles:20250716T173000
DTEND;TZID=America/Los_Angeles:20250716T200000
DTSTAMP:20260425T193408
CREATED:20250625T190824Z
LAST-MODIFIED:20250625T192331Z
UID:6568-1752687000-1752696000@www.700milliongallons.org
SUMMARY:RainWise Tabling @ Maple Leaf Summer Social
DESCRIPTION:Come visit us at the Maple Leaf Summer Social!\nRainWise will have a table at the Maple Leaf Summer Social on Wednesday\, July 16th from 5:30 – 8:00 PM. Talk to our staff about any questions you might have about your future RainWise project! \nFor more information about the Maple Leaf Summer Social\, visit https://www.facebook.com/MapleLeafCC.
URL:https://www.700milliongallons.org/event/maple-leaf-summer-social/
LOCATION:Maple Leaf Reservoir Park\, 1020 NE 82nd St\, Seattle\, WA\, 98115\, United States
CATEGORIES:RainWise,Tabling
END:VEVENT
END:VCALENDAR