BEGIN:VCALENDAR
VERSION:2.0
PRODID:-//700 Million Gallons - ECPv6.15.17//NONSGML v1.0//EN
CALSCALE:GREGORIAN
METHOD:PUBLISH
X-WR-CALNAME:700 Million Gallons
X-ORIGINAL-URL:https://www.700milliongallons.org
X-WR-CALDESC:Events for 700 Million Gallons
REFRESH-INTERVAL;VALUE=DURATION:PT1H
X-Robots-Tag:noindex
X-PUBLISHED-TTL:PT1H
BEGIN:VTIMEZONE
TZID:America/Los_Angeles
BEGIN:DAYLIGHT
TZOFFSETFROM:-0800
TZOFFSETTO:-0700
TZNAME:PDT
DTSTART:20240310T100000
END:DAYLIGHT
BEGIN:STANDARD
TZOFFSETFROM:-0700
TZOFFSETTO:-0800
TZNAME:PST
DTSTART:20241103T090000
END:STANDARD
BEGIN:DAYLIGHT
TZOFFSETFROM:-0800
TZOFFSETTO:-0700
TZNAME:PDT
DTSTART:20250309T100000
END:DAYLIGHT
BEGIN:STANDARD
TZOFFSETFROM:-0700
TZOFFSETTO:-0800
TZNAME:PST
DTSTART:20251102T090000
END:STANDARD
BEGIN:DAYLIGHT
TZOFFSETFROM:-0800
TZOFFSETTO:-0700
TZNAME:PDT
DTSTART:20260308T100000
END:DAYLIGHT
BEGIN:STANDARD
TZOFFSETFROM:-0700
TZOFFSETTO:-0800
TZNAME:PST
DTSTART:20261101T090000
END:STANDARD
END:VTIMEZONE
BEGIN:VEVENT
DTSTART;TZID=America/Los_Angeles:20251016T190000
DTEND;TZID=America/Los_Angeles:20251016T200000
DTSTAMP:20260425T144427
CREATED:20250827T170749Z
LAST-MODIFIED:20250903T175338Z
UID:6842-1760641200-1760644800@www.700milliongallons.org
SUMMARY:How to Get RainWise In-Person Workshop
DESCRIPTION:Join us for an in-person workshop and get all your questions answered!\n\n\n\nYou will learn about the RainWise program and how to apply to get a cistern and/or rain garden rebate. \n\n\n\nRainWise rebates combat pollution! With every storm\, rain carries pollutants off our roofs\, driveways\, and other hard surfaces to local creeks\, Lake Washington\, and Puget Sound. Rain gardens and cisterns can help control this stormwater\, but we need your help! In selected areas of Seattle\, the City of Seattle and King County will pay up to 100 percent of the cost of installing rain gardens and cisterns on homeowners’ properties. \n\n\n\nThis in-person workshop is for homeowners in RainWise-eligible basins throughout Seattle who are interested in learning more about the RainWise program and rebates. At this workshop\, you will learn: \n\n\n\n• about the stormwater problem\,• about the solutions we’re using to solve it\, and• how you can help and get a rebate of up to 100% of the cost of cisterns and/or rain gardens. \n\n\n\nWe’ll cover the rebate process\, and how to select a contractor. You’ll have a chance to ask questions to Program staff\, hear from a fellow RainWise homeowner\, and possibly chat with RainWise contractors about your future project!
URL:https://www.700milliongallons.org/event/how-to-get-rainwise-in-person-workshop-3/
LOCATION:Jefferson Community Center\, 3801 Beacon Avenue South\, Seattle\, Washington\, 98108
CATEGORIES:RainWise,Workshop
END:VEVENT
END:VCALENDAR