BEGIN:VCALENDAR
VERSION:2.0
PRODID:-//700 Million Gallons - ECPv6.15.17//NONSGML v1.0//EN
CALSCALE:GREGORIAN
METHOD:PUBLISH
X-ORIGINAL-URL:https://www.700milliongallons.org
X-WR-CALDESC:Events for 700 Million Gallons
REFRESH-INTERVAL;VALUE=DURATION:PT1H
X-Robots-Tag:noindex
X-PUBLISHED-TTL:PT1H
BEGIN:VTIMEZONE
TZID:America/Los_Angeles
BEGIN:DAYLIGHT
TZOFFSETFROM:-0800
TZOFFSETTO:-0700
TZNAME:PDT
DTSTART:20250309T100000
END:DAYLIGHT
BEGIN:STANDARD
TZOFFSETFROM:-0700
TZOFFSETTO:-0800
TZNAME:PST
DTSTART:20251102T090000
END:STANDARD
BEGIN:DAYLIGHT
TZOFFSETFROM:-0800
TZOFFSETTO:-0700
TZNAME:PDT
DTSTART:20260308T100000
END:DAYLIGHT
BEGIN:STANDARD
TZOFFSETFROM:-0700
TZOFFSETTO:-0800
TZNAME:PST
DTSTART:20261101T090000
END:STANDARD
BEGIN:DAYLIGHT
TZOFFSETFROM:-0800
TZOFFSETTO:-0700
TZNAME:PDT
DTSTART:20270314T100000
END:DAYLIGHT
BEGIN:STANDARD
TZOFFSETFROM:-0700
TZOFFSETTO:-0800
TZNAME:PST
DTSTART:20271107T090000
END:STANDARD
END:VTIMEZONE
BEGIN:VEVENT
DTSTART;TZID=America/Los_Angeles:20260414T170000
DTEND;TZID=America/Los_Angeles:20260414T183000
DTSTAMP:20260425T083338
CREATED:20260303T180942Z
LAST-MODIFIED:20260303T185932Z
UID:7750-1776186000-1776191400@www.700milliongallons.org
SUMMARY:How to Get RainWise Webinar & Contractor Meet Up
DESCRIPTION:Join us for an online webinar to learn about RainWise from home! \n\n\n\nRegister at https://tinyurl.com/April14RW. \n\n\n\nWith every storm\, rain carries pollutants off our roofs\, driveways\, and other hard surfaces to local creeks\, Lake Washington\, and Puget Sound. Rain gardens and cisterns can help control this stormwater\, but we need your help! In selected areas of Seattle\, the City of Seattle and King County will pay up to 100 percent of the cost of installing rain gardens and cisterns on homeowners’ properties. \n\n\n\nThis webinar is for homeowners in RainWise-eligible basins throughout Seattle who are interested in learning more about the RainWise program and rebates. At this webinar\, you will learn: \n\n\n\n• about the stormwater problem\,• about the solutions we’re using to solve it\, and• how you can help and get a rebate of up to 100% of the cost of cisterns and/or rain gardens. \n\n\n\nWe’ll cover the rebate process\, and how to select a contractor\, and you’ll have a chance to ask questions with Program staff and inspectors. After the presentation\, you will meet with different RainWise contractors and have the chance to ask questions specific to your homes. Treat this time as your initial consultations with contractors as you figure out who specifically you may want to work with on your RainWise project. \n\n\n\nWe recommend that you check your eligibility for a RainWise rebate in advance at our eligibility page.
URL:https://www.700milliongallons.org/event/how-to-get-rainwise-webinar-contractor-meet-up-3/
LOCATION:Washington
CATEGORIES:RainWise,Webinar
END:VEVENT
BEGIN:VEVENT
DTSTART;TZID=America/Los_Angeles:20260429T180000
DTEND;TZID=America/Los_Angeles:20260429T193000
DTSTAMP:20260425T083338
CREATED:20260303T181722Z
LAST-MODIFIED:20260303T190016Z
UID:7754-1777485600-1777491000@www.700milliongallons.org
SUMMARY:How to Get RainWise Webinar & Contractor Meet Up
DESCRIPTION:Join us for an online webinar to learn about RainWise from home! \n\n\n\nRegister at https://tinyurl.com/April29RW. \n\n\n\nWith every storm\, rain carries pollutants off our roofs\, driveways\, and other hard surfaces to local creeks\, Lake Washington\, and Puget Sound. Rain gardens and cisterns can help control this stormwater\, but we need your help! In selected areas of Seattle\, the City of Seattle and King County will pay up to 100 percent of the cost of installing rain gardens and cisterns on homeowners’ properties. \n\n\n\nThis webinar is for homeowners in RainWise-eligible basins throughout Seattle who are interested in learning more about the RainWise program and rebates. At this webinar\, you will learn: \n\n\n\n• about the stormwater problem\,• about the solutions we’re using to solve it\, and• how you can help and get a rebate of up to 100% of the cost of cisterns and/or rain gardens. \n\n\n\nWe’ll cover the rebate process\, and how to select a contractor\, and you’ll have a chance to ask questions with Program staff and inspectors. After the presentation\, you will meet with different RainWise contractors and have the chance to ask questions specific to your homes. Treat this time as your initial consultations with contractors as you figure out who specifically you may want to work with on your RainWise project. \n\n\n\nWe recommend that you check your eligibility for a RainWise rebate in advance at our eligibility page.
URL:https://www.700milliongallons.org/event/how-to-get-rainwise-webinar-contractor-meet-up-4/
LOCATION:Washington
CATEGORIES:RainWise,Webinar
END:VEVENT
BEGIN:VEVENT
DTSTART;TZID=America/Los_Angeles:20260509T090000
DTEND;TZID=America/Los_Angeles:20260509T150000
DTSTAMP:20260425T083338
CREATED:20260312T180111Z
LAST-MODIFIED:20260317T185542Z
UID:7816-1778317200-1778338800@www.700milliongallons.org
SUMMARY:Meet a RainWise Contractor at the Tilth Alliance Plant Sale!
DESCRIPTION:Shop the Tilth Alliance May Edible Plant Sale and then come learn about RainWise and meet our contractors! \n\n\n\nAbout the plant sale: Tilth Alliance’s annual May Edible Plant Sale features the largest selection of organically\, sustainably and locally grown vegetable plant starts in the Puget Sound region. All revenue from the May Edible Plant Sale benefits Tilth Alliance’s year-round programming. \n\n\n\nPlants offered at the May Edible Plant Sale are the best varieties to grow successfully in our Pacific Northwest climate. You’ll find an amazing selection of fruits and veggies to choose from\, as well as culinary herbs\, edible flowers\, pollinator plants\, and even gardening supplies that will help maximize your harvest all year round. You may even discover new plants or varieties for your summer garden! \n\n\n\nAbout RainWise: With every storm\, rain carries pollutants off our roofs\, driveways and other hard surfaces to local creeks\, Lake Washington and Puget Sound. Rain gardens and cisterns can help control this stormwater\, but we need your help! In selected areas of Seattle\, the City of Seattle and King County will pay up to 100 percent of the cost of installing rain gardens and cisterns on homeowners’ properties. \n\n\n\nCome talk to our contractors to learn about how RainWise can work on your property! \n\n\n\nWe recommend that you check your eligibility for a RainWise rebate in advance at https://700milliongallons.org/rainwise/eligibility. \n\n\n\nThis event is in-person and outdoors.
URL:https://www.700milliongallons.org/event/meet-a-rainwise-contractor-at-the-tilth-alliance-plant-sale/
LOCATION:Meridian Playground\, 4800 Meridian Avenue North\, Seattle\, Washington\, 98103
END:VEVENT
END:VCALENDAR