BEGIN:VCALENDAR
VERSION:2.0
PRODID:-//700 Million Gallons - ECPv6.15.17//NONSGML v1.0//EN
CALSCALE:GREGORIAN
METHOD:PUBLISH
X-ORIGINAL-URL:https://www.700milliongallons.org
X-WR-CALDESC:Events for 700 Million Gallons
REFRESH-INTERVAL;VALUE=DURATION:PT1H
X-Robots-Tag:noindex
X-PUBLISHED-TTL:PT1H
BEGIN:VTIMEZONE
TZID:America/Los_Angeles
BEGIN:DAYLIGHT
TZOFFSETFROM:-0800
TZOFFSETTO:-0700
TZNAME:PDT
DTSTART:20240310T100000
END:DAYLIGHT
BEGIN:STANDARD
TZOFFSETFROM:-0700
TZOFFSETTO:-0800
TZNAME:PST
DTSTART:20241103T090000
END:STANDARD
BEGIN:DAYLIGHT
TZOFFSETFROM:-0800
TZOFFSETTO:-0700
TZNAME:PDT
DTSTART:20250309T100000
END:DAYLIGHT
BEGIN:STANDARD
TZOFFSETFROM:-0700
TZOFFSETTO:-0800
TZNAME:PST
DTSTART:20251102T090000
END:STANDARD
BEGIN:DAYLIGHT
TZOFFSETFROM:-0800
TZOFFSETTO:-0700
TZNAME:PDT
DTSTART:20260308T100000
END:DAYLIGHT
BEGIN:STANDARD
TZOFFSETFROM:-0700
TZOFFSETTO:-0800
TZNAME:PST
DTSTART:20261101T090000
END:STANDARD
END:VTIMEZONE
BEGIN:VEVENT
DTSTART;TZID=America/Los_Angeles:20250906T100000
DTEND;TZID=America/Los_Angeles:20250906T150000
DTSTAMP:20260425T144814
CREATED:20250730T204729Z
LAST-MODIFIED:20250903T175304Z
UID:6572-1757152800-1757170800@www.700milliongallons.org
SUMMARY:RainWise Tabling @ Friends of the Conservatory Fall Plant Sale
DESCRIPTION:Come visit us at the Friends of the Conservatory Fall Plant Sale!\nRainWise will have a table at the Friends of the Conservatory Fall Plant Sale on Saturday\, September 6th from 10:00 AM – 3:00 PM. \nTalk to our staff about any questions you might have about your future RainWise project! \nFor more information about the Friends of the Conservatory Fall Plant Sale\, visit https://www.volunteerparkconservatory.org/calendar
URL:https://www.700milliongallons.org/event/rainwise-tabling-friends-of-the-conservatory-fall-plant-sale/
LOCATION:Friends of the Conservatory\, 1400 East Galer Street\, Seattle\, Washington\, 98112
CATEGORIES:RainWise,Tabling
END:VEVENT
BEGIN:VEVENT
DTSTART;TZID=America/Los_Angeles:20250913T100000
DTEND;TZID=America/Los_Angeles:20250913T140000
DTSTAMP:20260425T144814
CREATED:20250815T182103Z
LAST-MODIFIED:20250827T165438Z
UID:6757-1757757600-1757772000@www.700milliongallons.org
SUMMARY:RainWise Tabling @ Washington Park Arboretum Fall Plant Sale
DESCRIPTION:Come visit us at the Washington Park Arboretum Fall Plant Sale!\n\n\n\nRainWise will have a table at the Washington Park Arboretum Fall Plant Sale on Saturday\, September 13th from 10:00 AM – 2:00 PM. \n\n\n\nTalk to our staff about any questions you might have about your future RainWise project! \n\n\n\nFor more information about the Washington Park Arboretum Fall Plant Sale\, visit https://arboretumfoundation.org/events/fall-plant-sale. \n\n\n\n\n\n\n\n\n\n\nFall Plant Sale
URL:https://www.700milliongallons.org/event/rainwise-tabling-washington-park-arboretum-fall-plant-sale/
LOCATION:Graham Visitors Center\, 2300 Arboretum Dr E\, Seattle\, Washington\, 98112
CATEGORIES:RainWise,Tabling
END:VEVENT
BEGIN:VEVENT
DTSTART;TZID=America/Los_Angeles:20250917T150000
DTEND;TZID=America/Los_Angeles:20250917T190000
DTSTAMP:20260425T144814
CREATED:20250815T185831Z
LAST-MODIFIED:20250827T165428Z
UID:6774-1758121200-1758135600@www.700milliongallons.org
SUMMARY:RainWise Tabling @ Columbia City Farmers Market
DESCRIPTION:Come visit us at the Columbia City Farmers Market!\n\n\n\nRainWise will have a table at the Columbia City Farmers Market on Wednesday\, September 17th from 3 – 7pm. Talk to our staff about any questions you might have about your future RainWise project! \n\n\n\nFor more information about the Columbia City Farmers Market\, visit https://seattlefarmersmarkets.org/ccfm.
URL:https://www.700milliongallons.org/event/rainwise-tabling-columbia-city-farmers-market-2/
LOCATION:Washington
CATEGORIES:RainWise,Tabling
END:VEVENT
BEGIN:VEVENT
DTSTART;TZID=America/Los_Angeles:20250918T183000
DTEND;TZID=America/Los_Angeles:20250918T193000
DTSTAMP:20260425T144814
CREATED:20250815T191541Z
LAST-MODIFIED:20250827T165118Z
UID:6780-1758220200-1758223800@www.700milliongallons.org
SUMMARY:How to Get RainWise In-Person Workshop
DESCRIPTION:Join us for an in-person workshop and get all your questions answered!\n\n\n\nRegister at https://sept18RW.eventbrite.com. \n\n\n\nYou will learn about the RainWise program and how to apply to get a cistern and/or rain garden rebate. \n\n\n\nRainWise rebates combat pollution! With every storm\, rain carries pollutants off our roofs\, driveways\, and other hard surfaces to local creeks\, Lake Washington\, and Puget Sound. Rain gardens and cisterns can help control this stormwater\, but we need your help! In selected areas of Seattle\, the City of Seattle and King County will pay up to 100 percent of the cost of installing rain gardens and cisterns on homeowners’ properties. \n\n\n\nThis in-person workshop is for homeowners in RainWise-eligible basins throughout Seattle who are interested in learning more about the RainWise program and rebates. At this workshop\, you will learn: \n\n\n\n• about the stormwater problem\,• about the solutions we’re using to solve it\, and• how you can help and get a rebate of up to 100% of the cost of cisterns and/or rain gardens. \n\n\n\nWe’ll cover the rebate process\, and how to select a contractor. You’ll have a chance to ask questions to Program staff\, hear from a fellow RainWise homeowner\, and possibly chat with RainWise contractors about your future project!
URL:https://www.700milliongallons.org/event/how-to-get-rainwise-in-person-workshop/
LOCATION:Beacon Hill Branch – The Seattle Public Library\, 2821 Beacon Ave S #5813\, Seattle\, Washington\, 98144
CATEGORIES:RainWise,Workshop
END:VEVENT
BEGIN:VEVENT
DTSTART;TZID=America/Los_Angeles:20250924T170000
DTEND;TZID=America/Los_Angeles:20250924T183000
DTSTAMP:20260425T144814
CREATED:20250815T192920Z
LAST-MODIFIED:20250827T165102Z
UID:6789-1758733200-1758738600@www.700milliongallons.org
SUMMARY:How to Get RainWise Webinar & Contractor Meet Up
DESCRIPTION:Join us for an online webinar to learn about RainWise from home!\n\n\n\nRegister at https://tinyurl.com/sept24RW. \n\n\n\nWith every storm\, rain carries pollutants off our roofs\, driveways\, and other hard surfaces to local creeks\, Lake Washington\, and Puget Sound. Rain gardens and cisterns can help control this stormwater\, but we need your help! In selected areas of Seattle\, the City of Seattle and King County will pay up to 100 percent of the cost of installing rain gardens and cisterns on homeowners’ properties. \n\n\n\nThis webinar is for homeowners in RainWise-eligible basins throughout Seattle who are interested in learning more about the RainWise program and rebates. At this webinar\, you will learn: \n\n\n\n• about the stormwater problem\,• about the solutions we’re using to solve it\, and• how you can help and get a rebate of up to 100% of the cost of cisterns and/or rain gardens. \n\n\n\nWe’ll cover the rebate process\, and how to select a contractor\, and you’ll have a chance to ask questions with Program staff and inspectors. After the presentation\, you will meet with different RainWise contractors and have the chance to ask questions specific to your homes. Treat this time as your initial consultations with contractors as you figure out who specifically you may want to work with on your RainWise project. \n\n\n\nWe recommend that you check your eligibility for a RainWise rebate in advance at our eligibility page.
URL:https://www.700milliongallons.org/event/how-to-get-rainwise-webinar-contractor-meet-up/
LOCATION:Washington
CATEGORIES:RainWise,Webinar
END:VEVENT
BEGIN:VEVENT
DTSTART;TZID=America/Los_Angeles:20250927T100000
DTEND;TZID=America/Los_Angeles:20250927T140000
DTSTAMP:20260425T144814
CREATED:20250815T204319Z
LAST-MODIFIED:20250827T165053Z
UID:6810-1758967200-1758981600@www.700milliongallons.org
SUMMARY:RainWise Tabling @ West Seattle Eco Fair
DESCRIPTION:Come visit us at the West Seattle Eco Fair!\n\n\n\nRainWise will have a table at the West Seattle Eco Fair on Saturday\, September 27th from 10 am – 2 pm. Talk to our staff about any questions you might have about your future RainWise project! \n\n\n\nFor more information about the West Seattle Eco Fair\, check out the flyer below. \n\n\n\nWest Seattle Eco FairDownload
URL:https://www.700milliongallons.org/event/rainwise-tabling-west-seattle-eco-fair/
LOCATION:Our Lady of Guadalupe Catholic Church\, 7000 35th Ave SW\, Seattle\, Washington\, 98126
CATEGORIES:RainWise,Tabling
END:VEVENT
END:VCALENDAR